BEGIN:VCALENDAR
VERSION:2.0
PRODID:-//The Coin Collector - ECPv6.15.20//NONSGML v1.0//EN
CALSCALE:GREGORIAN
METHOD:PUBLISH
X-WR-CALNAME:The Coin Collector
X-ORIGINAL-URL:https://www.thecoincollector.ca
X-WR-CALDESC:Events for The Coin Collector
REFRESH-INTERVAL;VALUE=DURATION:PT1H
X-Robots-Tag:noindex
X-PUBLISHED-TTL:PT1H
BEGIN:VTIMEZONE
TZID:America/Toronto
BEGIN:DAYLIGHT
TZOFFSETFROM:-0500
TZOFFSETTO:-0400
TZNAME:EDT
DTSTART:20230312T070000
END:DAYLIGHT
BEGIN:STANDARD
TZOFFSETFROM:-0400
TZOFFSETTO:-0500
TZNAME:EST
DTSTART:20231105T060000
END:STANDARD
BEGIN:DAYLIGHT
TZOFFSETFROM:-0500
TZOFFSETTO:-0400
TZNAME:EDT
DTSTART:20240310T070000
END:DAYLIGHT
BEGIN:STANDARD
TZOFFSETFROM:-0400
TZOFFSETTO:-0500
TZNAME:EST
DTSTART:20241103T060000
END:STANDARD
BEGIN:DAYLIGHT
TZOFFSETFROM:-0500
TZOFFSETTO:-0400
TZNAME:EDT
DTSTART:20250309T070000
END:DAYLIGHT
BEGIN:STANDARD
TZOFFSETFROM:-0400
TZOFFSETTO:-0500
TZNAME:EST
DTSTART:20251102T060000
END:STANDARD
BEGIN:DAYLIGHT
TZOFFSETFROM:-0500
TZOFFSETTO:-0400
TZNAME:EDT
DTSTART:20260308T070000
END:DAYLIGHT
BEGIN:STANDARD
TZOFFSETFROM:-0400
TZOFFSETTO:-0500
TZNAME:EST
DTSTART:20261101T060000
END:STANDARD
END:VTIMEZONE
BEGIN:VEVENT
DTSTART;TZID=America/Toronto:20250323T090000
DTEND;TZID=America/Toronto:20250323T160000
DTSTAMP:20260423T070433
CREATED:20250301T200418Z
LAST-MODIFIED:20250322T171857Z
UID:10000066-1742720400-1742745600@www.thecoincollector.ca
SUMMARY:Coin-A-Rama
DESCRIPTION:March 23\, 2025 \nHours 9:00 to 4:00 \n  \nLviv Ukraine Pavilion \n38 Lviv Blvd.\, Oshawa\, ON\, L1H 3C3 \n  \nLots of free parking and Food service on site \n  \nContact : Sharon MacLean\, 905-728-1352\, papman@bell.net
URL:https://www.thecoincollector.ca/event/coin-a-rama-tentative-3/
LOCATION:Lviv Ukrainian Hall\, 38 Lviv Blvd\, Oshawa\, Ontario\, Canada
CATEGORIES:Coin Shows
ATTACH;FMTTYPE=image/png:https://www.thecoincollector.ca/wp-content/uploads/2024/05/Screenshot-2024-05-21-193407.png
ORGANIZER;CN="Sharon MacLean":MAILTO:papman@bell.net
END:VEVENT
BEGIN:VEVENT
DTSTART;TZID=America/Toronto:20250216T090000
DTEND;TZID=America/Toronto:20250216T160000
DTSTAMP:20260423T070433
CREATED:20241130T200341Z
LAST-MODIFIED:20250215T035448Z
UID:10000025-1739696400-1739721600@www.thecoincollector.ca
SUMMARY:Coin-A-Rama (RESCHEDULED to Sunday March 23\, 2025)
DESCRIPTION:RESCHEDULED BY THE SHOW ORGANISERS \n  \nContact : Sharon MacLean\, 905-728-1352
URL:https://www.thecoincollector.ca/event/coin-a-rama-tentative/
LOCATION:Lviv Ukrainian Hall\, 38 Lviv Blvd\, Oshawa\, Ontario\, Canada
CATEGORIES:Coin Shows
ATTACH;FMTTYPE=image/png:https://www.thecoincollector.ca/wp-content/uploads/2024/05/Screenshot-2024-05-21-193407.png
ORGANIZER;CN="Sharon MacLean":MAILTO:papman@bell.net
END:VEVENT
BEGIN:VEVENT
DTSTART;TZID=America/Toronto:20241020T090000
DTEND;TZID=America/Toronto:20241020T160000
DTSTAMP:20260423T070433
CREATED:20240521T232818Z
LAST-MODIFIED:20240613T031954Z
UID:10000019-1729414800-1729440000@www.thecoincollector.ca
SUMMARY:Coin-A-Rama
DESCRIPTION:October 20\, 2024 \nHours 9:00 to 4:00 \n  \nLviv Ukraine Pavilion \n38 Lviv Blvd.\, Oshawa\, ON\, L1H 3C3 \n  \nFrom the 401East\, take the Simcoe St. exit. Turn left and proceed East along Bloor to Simcoe St. Then make a Left at Simcoe and proceed North over the bridge to first street on the Right (Lviv Blvd.) and you are there. \nSorry for the construction mess. \n  \nLots of free parking and Food service on site \n  \nContact : Sharon MacLean 905-728-1352
URL:https://www.thecoincollector.ca/event/coin-a-rama/
LOCATION:Lviv Ukrainian Hall\, 38 Lviv Blvd\, Oshawa\, Ontario\, Canada
CATEGORIES:Coin Shows
ATTACH;FMTTYPE=image/png:https://www.thecoincollector.ca/wp-content/uploads/2024/05/Screenshot-2024-05-21-193407.png
ORGANIZER;CN="Sharon MacLean":MAILTO:papman@bell.net
END:VEVENT
END:VCALENDAR