BEGIN:VCALENDAR
VERSION:2.0
PRODID:-//The Coin Collector - ECPv6.15.20//NONSGML v1.0//EN
CALSCALE:GREGORIAN
METHOD:PUBLISH
X-ORIGINAL-URL:https://www.thecoincollector.ca
X-WR-CALDESC:Events for The Coin Collector
REFRESH-INTERVAL;VALUE=DURATION:PT1H
X-Robots-Tag:noindex
X-PUBLISHED-TTL:PT1H
BEGIN:VTIMEZONE
TZID:America/Toronto
BEGIN:DAYLIGHT
TZOFFSETFROM:-0500
TZOFFSETTO:-0400
TZNAME:EDT
DTSTART:20240310T070000
END:DAYLIGHT
BEGIN:STANDARD
TZOFFSETFROM:-0400
TZOFFSETTO:-0500
TZNAME:EST
DTSTART:20241103T060000
END:STANDARD
BEGIN:DAYLIGHT
TZOFFSETFROM:-0500
TZOFFSETTO:-0400
TZNAME:EDT
DTSTART:20250309T070000
END:DAYLIGHT
BEGIN:STANDARD
TZOFFSETFROM:-0400
TZOFFSETTO:-0500
TZNAME:EST
DTSTART:20251102T060000
END:STANDARD
BEGIN:DAYLIGHT
TZOFFSETFROM:-0500
TZOFFSETTO:-0400
TZNAME:EDT
DTSTART:20260308T070000
END:DAYLIGHT
BEGIN:STANDARD
TZOFFSETFROM:-0400
TZOFFSETTO:-0500
TZNAME:EST
DTSTART:20261101T060000
END:STANDARD
END:VTIMEZONE
BEGIN:VEVENT
DTSTART;TZID=America/Toronto:20250906T100000
DTEND;TZID=America/Toronto:20250906T170000
DTSTAMP:20260421T195244
CREATED:20241130T202826Z
LAST-MODIFIED:20241231T053957Z
UID:10000034-1757152800-1757178000@www.thecoincollector.ca
SUMMARY:National Postage Stamp and Coin Show
DESCRIPTION:September 6-7\, 2025 \nSaturday 10:00 to 5:00\, Sunday 10:00 to 4:00 \n  \n100+ tables\, 50+ dealers \nLots of free parking and Food Service on Site \n  \nContact: Mike Walsh\, mwalsh@trajan.ca\, 905-646-7744 Ext. 228
URL:https://www.thecoincollector.ca/event/national-postage-stamp-and-coin-show-4-2/2025-09-06/
LOCATION:Hilton Mississauga / Meadowvale\, 6750 Mississauga Road\, Mississauga\, Ontario\, L5N 2L3\, Canada
CATEGORIES:Coin Shows
ATTACH;FMTTYPE=image/jpeg:https://www.thecoincollector.ca/wp-content/uploads/2024/11/ShowCard-2025.jpg
ORGANIZER;CN="Mike Walsh":MAILTO:mwalsh@trajan.ca
END:VEVENT
BEGIN:VEVENT
DTSTART;TZID=America/Toronto:20250907T080000
DTEND;TZID=America/Toronto:20250907T160000
DTSTAMP:20260421T195244
CREATED:20241130T202826Z
LAST-MODIFIED:20241231T053957Z
UID:10000039-1757232000-1757260800@www.thecoincollector.ca
SUMMARY:National Postage Stamp and Coin Show
DESCRIPTION:September 6-7\, 2025 \nSaturday 10:00 to 5:00\, Sunday 10:00 to 4:00 \n  \n100+ tables\, 50+ dealers \nLots of free parking and Food Service on Site \n  \nContact: Mike Walsh\, mwalsh@trajan.ca\, 905-646-7744 Ext. 228
URL:https://www.thecoincollector.ca/event/national-postage-stamp-and-coin-show-4-2/2025-09-07/
LOCATION:Hilton Mississauga / Meadowvale\, 6750 Mississauga Road\, Mississauga\, Ontario\, L5N 2L3\, Canada
CATEGORIES:Coin Shows
ATTACH;FMTTYPE=image/jpeg:https://www.thecoincollector.ca/wp-content/uploads/2024/11/ShowCard-2025.jpg
ORGANIZER;CN="Mike Walsh":MAILTO:mwalsh@trajan.ca
END:VEVENT
BEGIN:VEVENT
DTSTART;TZID=America/Toronto:20250927T090000
DTEND;TZID=America/Toronto:20250927T150000
DTSTAMP:20260421T195244
CREATED:20241130T204223Z
LAST-MODIFIED:20241231T052742Z
UID:10000041-1758963600-1758985200@www.thecoincollector.ca
SUMMARY:Guelph Coin Show
DESCRIPTION:September 27\, 2025 \nHours 9:00 – 3:00 \n  \nColonel John McCrae Legion \n57 Watson Pkwy. South\, Guelph \n  \n35+ tables \nLots of free parking and Food Service available. \n  \nContact: Mike Hollingshead\, 519-823-2646
URL:https://www.thecoincollector.ca/event/guelph-coin-show-4/
LOCATION:Colonel John McCrae Legion Branch 234\, 57 Watson Parkway South\, Guelph\, Ontario\, N1L 1E3\, Canada
CATEGORIES:Coin Shows
ATTACH;FMTTYPE=image/png:https://www.thecoincollector.ca/wp-content/uploads/2024/03/swcs.png
ORGANIZER;CN="Mike Hollingshead":MAILTO:cholling@uoguelph.ca
END:VEVENT
END:VCALENDAR